BEGIN:VCALENDAR
VERSION:2.0
PRODID:-//American Academy of Pediatrics, Colorado Chapter - ECPv6.15.20//NONSGML v1.0//EN
CALSCALE:GREGORIAN
METHOD:PUBLISH
X-WR-CALNAME:American Academy of Pediatrics, Colorado Chapter
X-ORIGINAL-URL:https://aapcolorado.org
X-WR-CALDESC:Events for American Academy of Pediatrics, Colorado Chapter
REFRESH-INTERVAL;VALUE=DURATION:PT1H
X-Robots-Tag:noindex
X-PUBLISHED-TTL:PT1H
BEGIN:VTIMEZONE
TZID:America/Denver
BEGIN:DAYLIGHT
TZOFFSETFROM:-0700
TZOFFSETTO:-0600
TZNAME:MDT
DTSTART:20220313T090000
END:DAYLIGHT
BEGIN:STANDARD
TZOFFSETFROM:-0600
TZOFFSETTO:-0700
TZNAME:MST
DTSTART:20221106T080000
END:STANDARD
BEGIN:DAYLIGHT
TZOFFSETFROM:-0700
TZOFFSETTO:-0600
TZNAME:MDT
DTSTART:20230312T090000
END:DAYLIGHT
BEGIN:STANDARD
TZOFFSETFROM:-0600
TZOFFSETTO:-0700
TZNAME:MST
DTSTART:20231105T080000
END:STANDARD
BEGIN:DAYLIGHT
TZOFFSETFROM:-0700
TZOFFSETTO:-0600
TZNAME:MDT
DTSTART:20240310T090000
END:DAYLIGHT
BEGIN:STANDARD
TZOFFSETFROM:-0600
TZOFFSETTO:-0700
TZNAME:MST
DTSTART:20241103T080000
END:STANDARD
END:VTIMEZONE
BEGIN:VEVENT
DTSTART;TZID=America/Denver:20231004T100000
DTEND;TZID=America/Denver:20231004T113000
DTSTAMP:20260422T104720
CREATED:20230918T000956Z
LAST-MODIFIED:20230918T001244Z
UID:1890-1696413600-1696419000@aapcolorado.org
SUMMARY:C&S Webinar: Anxiety: Youth Mental Health and Digital Media
DESCRIPTION:Children and Screens Present:\nAnxiety: Youth Mental Health and Digital Media\n\nWednesday\, Oct 4\, 2023\, 10:00 AM – 11:30 AM MT \nRegistration is now open for both #AskTheExperts webinars in our special Youth and Mental Health series this fall on anxiety and depression. \nLearn more and register here. \nJoin us on Wednesday\, October 4th for our next #AskThe Experts webinar “Anxiety: Youth Mental Health and Digital Media\,” the first in a set of webinars investigating two of the most common mental health struggles of youth today: anxiety and depression. A panel of clinical psychologists\, child and adolescent psychiatrists\, and other experts in anxiety disorders will share clinical insights and current research on the prevalence of youth anxiety and how digital media use may be contributing to it\, as well as tips on how adults can support the children in their lives who may be suffering – or at risk of developing – anxiety.
URL:https://aapcolorado.org/event/anxiety-youth-mental-health-and-digital-media/
LOCATION:Webinar
END:VEVENT
BEGIN:VEVENT
DTSTART;TZID=America/Denver:20231004T100000
DTEND;TZID=America/Denver:20231004T113000
DTSTAMP:20260422T104720
CREATED:20230918T000956Z
LAST-MODIFIED:20230918T000956Z
UID:3150-1696413600-1696419000@aapcolorado.org
SUMMARY:C&S Webinar: Anxiety: Youth Mental Health and Digital Media
DESCRIPTION:Children and Screens Present:\nAnxiety: Youth Mental Health and Digital Media\n\nWednesday\, Oct 4\, 2023\, 10:00 AM – 11:30 AM MT \nRegistration is now open for both #AskTheExperts webinars in our special Youth and Mental Health series this fall on anxiety and depression. \nLearn more and register here. \nJoin us on Wednesday\, October 4th for our next #AskThe Experts webinar “Anxiety: Youth Mental Health and Digital Media\,” the first in a set of webinars investigating two of the most common mental health struggles of youth today: anxiety and depression. A panel of clinical psychologists\, child and adolescent psychiatrists\, and other experts in anxiety disorders will share clinical insights and current research on the prevalence of youth anxiety and how digital media use may be contributing to it\, as well as tips on how adults can support the children in their lives who may be suffering – or at risk of developing – anxiety.
URL:https://aapcolorado.org/event/anxiety-youth-mental-health-and-digital-media-2/
LOCATION:Webinar
END:VEVENT
BEGIN:VEVENT
DTSTART;TZID=America/Denver:20231004T100000
DTEND;TZID=America/Denver:20231004T113000
DTSTAMP:20260422T104720
CREATED:20230918T000956Z
LAST-MODIFIED:20230918T000956Z
UID:3779-1696413600-1696419000@aapcolorado.org
SUMMARY:C&S Webinar: Anxiety: Youth Mental Health and Digital Media
DESCRIPTION:Children and Screens Present:\nAnxiety: Youth Mental Health and Digital Media\n\nWednesday\, Oct 4\, 2023\, 10:00 AM – 11:30 AM MT \nRegistration is now open for both #AskTheExperts webinars in our special Youth and Mental Health series this fall on anxiety and depression. \nLearn more and register here. \nJoin us on Wednesday\, October 4th for our next #AskThe Experts webinar “Anxiety: Youth Mental Health and Digital Media\,” the first in a set of webinars investigating two of the most common mental health struggles of youth today: anxiety and depression. A panel of clinical psychologists\, child and adolescent psychiatrists\, and other experts in anxiety disorders will share clinical insights and current research on the prevalence of youth anxiety and how digital media use may be contributing to it\, as well as tips on how adults can support the children in their lives who may be suffering – or at risk of developing – anxiety.
URL:https://aapcolorado.org/event/anxiety-youth-mental-health-and-digital-media-3/
LOCATION:Webinar
END:VEVENT
END:VCALENDAR