BEGIN:VCALENDAR
VERSION:2.0
PRODID:-//American Academy of Pediatrics, Colorado Chapter - ECPv6.15.20//NONSGML v1.0//EN
CALSCALE:GREGORIAN
METHOD:PUBLISH
X-ORIGINAL-URL:https://aapcolorado.org
X-WR-CALDESC:Events for American Academy of Pediatrics, Colorado Chapter
REFRESH-INTERVAL;VALUE=DURATION:PT1H
X-Robots-Tag:noindex
X-PUBLISHED-TTL:PT1H
BEGIN:VTIMEZONE
TZID:America/Denver
BEGIN:DAYLIGHT
TZOFFSETFROM:-0700
TZOFFSETTO:-0600
TZNAME:MDT
DTSTART:20220313T090000
END:DAYLIGHT
BEGIN:STANDARD
TZOFFSETFROM:-0600
TZOFFSETTO:-0700
TZNAME:MST
DTSTART:20221106T080000
END:STANDARD
BEGIN:DAYLIGHT
TZOFFSETFROM:-0700
TZOFFSETTO:-0600
TZNAME:MDT
DTSTART:20230312T090000
END:DAYLIGHT
BEGIN:STANDARD
TZOFFSETFROM:-0600
TZOFFSETTO:-0700
TZNAME:MST
DTSTART:20231105T080000
END:STANDARD
BEGIN:DAYLIGHT
TZOFFSETFROM:-0700
TZOFFSETTO:-0600
TZNAME:MDT
DTSTART:20240310T090000
END:DAYLIGHT
BEGIN:STANDARD
TZOFFSETFROM:-0600
TZOFFSETTO:-0700
TZNAME:MST
DTSTART:20241103T080000
END:STANDARD
END:VTIMEZONE
BEGIN:VEVENT
DTSTART;TZID=America/Denver:20231019T120000
DTEND;TZID=America/Denver:20231019T130000
DTSTAMP:20260422T104854
CREATED:20230811T174833Z
LAST-MODIFIED:20230918T003332Z
UID:1859-1697716800-1697720400@aapcolorado.org
SUMMARY:VES: Virtual Education Series: Disaster Preparedness for the Non-Emergency Clinician
DESCRIPTION:CHILDREN’S HOSPITAL COLORADO PRESENTS:\nDisaster Preparedness for the Non-Emergency Clinician\n\nThursday\, Oct 19\, 2023 • 12 to 1 p.m. \nThere is no fee for this event but please register here. \nAt the start of the session\, learners must report attendance by texting\nthe SMS code VOGCAT to Continuing Education at 720-790-4423 or https://ce.childrenscolorado.org/code. \nFor further information\, click here for the flyer or contact Nicole Shoka. \nObjectives: \n\nDescribe steps to prepare your clinic or practice location in case of a disaster or mass casualty incident.\nIdentify how to help your patients prepare for a disaster.\nDiscuss key steps to help prepare your family for a disaster.\n\nFaculty from Children’s Hospital Colorado / University of Colorado\nKristin Kim\, MD\, PhD\nAssistant Professor of Pediatrics\nUniversity of Colorado School of Medicine\nPediatric Emergency Medicine Physician\nTrauma Liaison\nChildren’s Hospital Colorado
URL:https://aapcolorado.org/event/ves-disaster-preparedness-non-emergency-clinician/
LOCATION:Virtual
END:VEVENT
BEGIN:VEVENT
DTSTART;TZID=America/Denver:20231019T120000
DTEND;TZID=America/Denver:20231019T130000
DTSTAMP:20260422T104854
CREATED:20230811T174833Z
LAST-MODIFIED:20230811T174833Z
UID:3143-1697716800-1697720400@aapcolorado.org
SUMMARY:VES: Virtual Education Series: Disaster Preparedness for the Non-Emergency Clinician
DESCRIPTION:CHILDREN’S HOSPITAL COLORADO PRESENTS:\nDisaster Preparedness for the Non-Emergency Clinician\n\nThursday\, Oct 19\, 2023 • 12 to 1 p.m. \nThere is no fee for this event but please register here. \nAt the start of the session\, learners must report attendance by texting\nthe SMS code VOGCAT to Continuing Education at 720-790-4423 or https://ce.childrenscolorado.org/code. \nFor further information\, click here for the flyer or contact Nicole Shoka. \nObjectives: \n\nDescribe steps to prepare your clinic or practice location in case of a disaster or mass casualty incident.\nIdentify how to help your patients prepare for a disaster.\nDiscuss key steps to help prepare your family for a disaster.\n\nFaculty from Children’s Hospital Colorado / University of Colorado\nKristin Kim\, MD\, PhD\nAssistant Professor of Pediatrics\nUniversity of Colorado School of Medicine\nPediatric Emergency Medicine Physician\nTrauma Liaison\nChildren’s Hospital Colorado
URL:https://aapcolorado.org/event/ves-disaster-preparedness-non-emergency-clinician-2/
LOCATION:Virtual
END:VEVENT
BEGIN:VEVENT
DTSTART;TZID=America/Denver:20231019T120000
DTEND;TZID=America/Denver:20231019T130000
DTSTAMP:20260422T104854
CREATED:20230811T174833Z
LAST-MODIFIED:20230811T174833Z
UID:3772-1697716800-1697720400@aapcolorado.org
SUMMARY:VES: Virtual Education Series: Disaster Preparedness for the Non-Emergency Clinician
DESCRIPTION:CHILDREN’S HOSPITAL COLORADO PRESENTS:\nDisaster Preparedness for the Non-Emergency Clinician\n\nThursday\, Oct 19\, 2023 • 12 to 1 p.m. \nThere is no fee for this event but please register here. \nAt the start of the session\, learners must report attendance by texting\nthe SMS code VOGCAT to Continuing Education at 720-790-4423 or https://ce.childrenscolorado.org/code. \nFor further information\, click here for the flyer or contact Nicole Shoka. \nObjectives: \n\nDescribe steps to prepare your clinic or practice location in case of a disaster or mass casualty incident.\nIdentify how to help your patients prepare for a disaster.\nDiscuss key steps to help prepare your family for a disaster.\n\nFaculty from Children’s Hospital Colorado / University of Colorado\nKristin Kim\, MD\, PhD\nAssistant Professor of Pediatrics\nUniversity of Colorado School of Medicine\nPediatric Emergency Medicine Physician\nTrauma Liaison\nChildren’s Hospital Colorado
URL:https://aapcolorado.org/event/ves-disaster-preparedness-non-emergency-clinician-3/
LOCATION:Virtual
END:VEVENT
END:VCALENDAR