BEGIN:VCALENDAR
VERSION:2.0
PRODID:-//American Academy of Pediatrics, Colorado Chapter - ECPv6.15.20//NONSGML v1.0//EN
CALSCALE:GREGORIAN
METHOD:PUBLISH
X-ORIGINAL-URL:https://aapcolorado.org
X-WR-CALDESC:Events for American Academy of Pediatrics, Colorado Chapter
REFRESH-INTERVAL;VALUE=DURATION:PT1H
X-Robots-Tag:noindex
X-PUBLISHED-TTL:PT1H
BEGIN:VTIMEZONE
TZID:America/Denver
BEGIN:DAYLIGHT
TZOFFSETFROM:-0700
TZOFFSETTO:-0600
TZNAME:MDT
DTSTART:20220313T090000
END:DAYLIGHT
BEGIN:STANDARD
TZOFFSETFROM:-0600
TZOFFSETTO:-0700
TZNAME:MST
DTSTART:20221106T080000
END:STANDARD
BEGIN:DAYLIGHT
TZOFFSETFROM:-0700
TZOFFSETTO:-0600
TZNAME:MDT
DTSTART:20230312T090000
END:DAYLIGHT
BEGIN:STANDARD
TZOFFSETFROM:-0600
TZOFFSETTO:-0700
TZNAME:MST
DTSTART:20231105T080000
END:STANDARD
BEGIN:DAYLIGHT
TZOFFSETFROM:-0700
TZOFFSETTO:-0600
TZNAME:MDT
DTSTART:20240310T090000
END:DAYLIGHT
BEGIN:STANDARD
TZOFFSETFROM:-0600
TZOFFSETTO:-0700
TZNAME:MST
DTSTART:20241103T080000
END:STANDARD
END:VTIMEZONE
BEGIN:VEVENT
DTSTART;VALUE=DATE:20231020
DTEND;VALUE=DATE:20231025
DTSTAMP:20260422T104827
CREATED:20230218T201404Z
LAST-MODIFIED:20230218T201630Z
UID:1723-1697760000-1698191999@aapcolorado.org
SUMMARY:2023 AAP National Conference (NCE)
DESCRIPTION:SAVE THE DATE\nMark your calendars for the 2023 AAP National Conference & Exhibition\, October 20-24\, in Washington\, DC.  \nDon’t miss out on this opportunity to connect with colleagues\, engage in thought-provoking education sessions\, and visit the world’s largest pediatric exhibit hall. A selection of education sessions will also be live-streamed and recorded for all attendees to view through January 31\, 2024. \nRegistration\, hotel reservations\, and the Conference Schedule will be available in May 2023.  \n 
URL:https://aapcolorado.org/event/2023-aap-national-conference-nce/
LOCATION:Washington\, DC
END:VEVENT
BEGIN:VEVENT
DTSTART;VALUE=DATE:20231020
DTEND;VALUE=DATE:20231025
DTSTAMP:20260422T104827
CREATED:20230218T201404Z
LAST-MODIFIED:20230218T201404Z
UID:3120-1697760000-1698191999@aapcolorado.org
SUMMARY:2023 AAP National Conference (NCE)
DESCRIPTION:SAVE THE DATE\nMark your calendars for the 2023 AAP National Conference & Exhibition\, October 20-24\, in Washington\, DC.  \nDon’t miss out on this opportunity to connect with colleagues\, engage in thought-provoking education sessions\, and visit the world’s largest pediatric exhibit hall. A selection of education sessions will also be live-streamed and recorded for all attendees to view through January 31\, 2024. \nRegistration\, hotel reservations\, and the Conference Schedule will be available in May 2023.  \n 
URL:https://aapcolorado.org/event/2023-aap-national-conference-nce-2/
LOCATION:Washington\, DC
END:VEVENT
BEGIN:VEVENT
DTSTART;VALUE=DATE:20231020
DTEND;VALUE=DATE:20231025
DTSTAMP:20260422T104827
CREATED:20230218T201404Z
LAST-MODIFIED:20230218T201404Z
UID:3749-1697760000-1698191999@aapcolorado.org
SUMMARY:2023 AAP National Conference (NCE)
DESCRIPTION:SAVE THE DATE\nMark your calendars for the 2023 AAP National Conference & Exhibition\, October 20-24\, in Washington\, DC.  \nDon’t miss out on this opportunity to connect with colleagues\, engage in thought-provoking education sessions\, and visit the world’s largest pediatric exhibit hall. A selection of education sessions will also be live-streamed and recorded for all attendees to view through January 31\, 2024. \nRegistration\, hotel reservations\, and the Conference Schedule will be available in May 2023.  \n 
URL:https://aapcolorado.org/event/2023-aap-national-conference-nce-3/
LOCATION:Washington\, DC
END:VEVENT
END:VCALENDAR