BEGIN:VCALENDAR
VERSION:2.0
PRODID:-//American Academy of Pediatrics, Colorado Chapter - ECPv6.15.20//NONSGML v1.0//EN
CALSCALE:GREGORIAN
METHOD:PUBLISH
X-WR-CALNAME:American Academy of Pediatrics, Colorado Chapter
X-ORIGINAL-URL:https://aapcolorado.org
X-WR-CALDESC:Events for American Academy of Pediatrics, Colorado Chapter
REFRESH-INTERVAL;VALUE=DURATION:PT1H
X-Robots-Tag:noindex
X-PUBLISHED-TTL:PT1H
BEGIN:VTIMEZONE
TZID:America/Denver
BEGIN:DAYLIGHT
TZOFFSETFROM:-0700
TZOFFSETTO:-0600
TZNAME:MDT
DTSTART:20230312T090000
END:DAYLIGHT
BEGIN:STANDARD
TZOFFSETFROM:-0600
TZOFFSETTO:-0700
TZNAME:MST
DTSTART:20231105T080000
END:STANDARD
BEGIN:DAYLIGHT
TZOFFSETFROM:-0700
TZOFFSETTO:-0600
TZNAME:MDT
DTSTART:20240310T090000
END:DAYLIGHT
BEGIN:STANDARD
TZOFFSETFROM:-0600
TZOFFSETTO:-0700
TZNAME:MST
DTSTART:20241103T080000
END:STANDARD
BEGIN:DAYLIGHT
TZOFFSETFROM:-0700
TZOFFSETTO:-0600
TZNAME:MDT
DTSTART:20250309T090000
END:DAYLIGHT
BEGIN:STANDARD
TZOFFSETFROM:-0600
TZOFFSETTO:-0700
TZNAME:MST
DTSTART:20251102T080000
END:STANDARD
END:VTIMEZONE
BEGIN:VEVENT
DTSTART;VALUE=DATE:20240927
DTEND;VALUE=DATE:20241002
DTSTAMP:20260420T073716
CREATED:20240808T162239Z
LAST-MODIFIED:20240808T162239Z
UID:3873-1727395200-1727827199@aapcolorado.org
SUMMARY:2024 AAP National Conference (NCE)
DESCRIPTION:The 2024 AAP National Conference & Exhibition (NCE) will take place September 27-October 1\, 2024 in Orlando\, FL. \nRegistration and hotel reservations are now open for AAP members and non-members. The Conference Schedule can be found here. \nAAP National can’t wait to connect in person and network with colleagues\, participate in world-class education sessions\, attend exciting special events\, visit the exhibit hall\, and much more! A limited virtual attendee experience will also be available. \n  \n 
URL:https://aapcolorado.org/event/2024-aap-national-conference-nce-3/
LOCATION:Orange County Convention Center Orlando\, FL
END:VEVENT
END:VCALENDAR