BEGIN:VCALENDAR
VERSION:2.0
PRODID:-//American Academy of Pediatrics, Colorado Chapter - ECPv6.15.20//NONSGML v1.0//EN
CALSCALE:GREGORIAN
METHOD:PUBLISH
X-ORIGINAL-URL:https://aapcolorado.org
X-WR-CALDESC:Events for American Academy of Pediatrics, Colorado Chapter
REFRESH-INTERVAL;VALUE=DURATION:PT1H
X-Robots-Tag:noindex
X-PUBLISHED-TTL:PT1H
BEGIN:VTIMEZONE
TZID:America/Denver
BEGIN:DAYLIGHT
TZOFFSETFROM:-0700
TZOFFSETTO:-0600
TZNAME:MDT
DTSTART:20240310T090000
END:DAYLIGHT
BEGIN:STANDARD
TZOFFSETFROM:-0600
TZOFFSETTO:-0700
TZNAME:MST
DTSTART:20241103T080000
END:STANDARD
BEGIN:DAYLIGHT
TZOFFSETFROM:-0700
TZOFFSETTO:-0600
TZNAME:MDT
DTSTART:20250309T090000
END:DAYLIGHT
BEGIN:STANDARD
TZOFFSETFROM:-0600
TZOFFSETTO:-0700
TZNAME:MST
DTSTART:20251102T080000
END:STANDARD
BEGIN:DAYLIGHT
TZOFFSETFROM:-0700
TZOFFSETTO:-0600
TZNAME:MDT
DTSTART:20260308T090000
END:DAYLIGHT
BEGIN:STANDARD
TZOFFSETFROM:-0600
TZOFFSETTO:-0700
TZNAME:MST
DTSTART:20261101T080000
END:STANDARD
END:VTIMEZONE
BEGIN:VEVENT
DTSTART;TZID=America/Denver:20250408T080000
DTEND;TZID=America/Denver:20250408T170000
DTSTAMP:20260420T044621
CREATED:20250129T192049Z
LAST-MODIFIED:20250129T192049Z
UID:3277-1744099200-1744131600@aapcolorado.org
SUMMARY:OnCall4Kids DC Legislative Advocacy
DESCRIPTION:OnCall4Kids Present:\nDC Legislative Advocacy Day to Decrease Youth Firearm Violence\nTuesday\, April 8\, 2025 • 8 am to 5 p.m. – In- Person Event!\n \nPlease RSVP here to attend on April 8th. Learn more at the OnCall4Kids Website here.\n \nStipends: OnCall4Kids will be offering stipends for our fly-in to help alleviate some of the burden of the travel costs. We will offer $200 for the first two healthcare workers per state who RSVP to join us.  \nCALLING ALL HEALTHCARE WORKERS!! We want YOU to come join us in DC for our next day of legislative advocacy! Over the past two years\, we have made incredible progress – let’s keep up the momentum!! \nOnCall4Kids has now participated in hundreds of meetings with lawmakers and other offices of the executive branch. We have also had nearly 100 participants at each of our fly-ins\, and we have and represented over 35 states in meetings. On Tuesday\, April 8th\, OnCall4Kids is headed back to DC to meet with the new Congress during the first 100 days of the new administration. We hope to be joined by all types of healthcare workers to address gun violence as a non-partisan public health crisis . It remains the number one cause of death of children in America.  We are ready to represent all 50 states\, so please join us and pass on our RSVP to other colleagues across the country! \nWe will again be lobbying for three bills that could save lives:\n* Assault Weapons Ban/GOSAFE Act\n* Background Check Expansion Act (Universal Background Checks)\n* Ethan’s Law (Secure Storage) \nFor those that join us\, we will host very informative info sessions and lobby training to ensure that everyone is prepared. If you can’t attend\, please send the link to any friends/co-workers who may be interested in this cause! If you want to help sponsor a healthcare worker to attend in your place\, please consider donating on our website – www.oncall4kids.org.
URL:https://aapcolorado.org/event/oncall4kids-advocacy-2/
LOCATION:Washington\, DC
END:VEVENT
END:VCALENDAR