BEGIN:VCALENDAR
VERSION:2.0
PRODID:-//American Academy of Pediatrics, Colorado Chapter - ECPv6.15.20//NONSGML v1.0//EN
CALSCALE:GREGORIAN
METHOD:PUBLISH
X-WR-CALNAME:American Academy of Pediatrics, Colorado Chapter
X-ORIGINAL-URL:https://aapcolorado.org
X-WR-CALDESC:Events for American Academy of Pediatrics, Colorado Chapter
REFRESH-INTERVAL;VALUE=DURATION:PT1H
X-Robots-Tag:noindex
X-PUBLISHED-TTL:PT1H
BEGIN:VTIMEZONE
TZID:America/Denver
BEGIN:DAYLIGHT
TZOFFSETFROM:-0700
TZOFFSETTO:-0600
TZNAME:MDT
DTSTART:20240310T090000
END:DAYLIGHT
BEGIN:STANDARD
TZOFFSETFROM:-0600
TZOFFSETTO:-0700
TZNAME:MST
DTSTART:20241103T080000
END:STANDARD
BEGIN:DAYLIGHT
TZOFFSETFROM:-0700
TZOFFSETTO:-0600
TZNAME:MDT
DTSTART:20250309T090000
END:DAYLIGHT
BEGIN:STANDARD
TZOFFSETFROM:-0600
TZOFFSETTO:-0700
TZNAME:MST
DTSTART:20251102T080000
END:STANDARD
BEGIN:DAYLIGHT
TZOFFSETFROM:-0700
TZOFFSETTO:-0600
TZNAME:MDT
DTSTART:20260308T090000
END:DAYLIGHT
BEGIN:STANDARD
TZOFFSETFROM:-0600
TZOFFSETTO:-0700
TZNAME:MST
DTSTART:20261101T080000
END:STANDARD
END:VTIMEZONE
BEGIN:VEVENT
DTSTART;TZID=America/Denver:20250410T120000
DTEND;TZID=America/Denver:20250410T130000
DTSTAMP:20260422T034545
CREATED:20250403T152632Z
LAST-MODIFIED:20250403T152632Z
UID:3294-1744286400-1744290000@aapcolorado.org
SUMMARY:ECHO: Community of Practice on Adolescent Reproductive Health
DESCRIPTION:THE COLORADO PEDIATRIC PSYCHIATRY CONSULTATION\nAND ACCESS PROGRAM (COPPCAP) PRESENTS:\nCOMMUNITY OF PRACTICE\nON ADOLESCENT REPRODUCTIVE HEALTH\nThursday\, April 10\, 2025 12PM – 1PM MT\nMore information or to register\, click here. \nThis series is for health care providers\, educators and anyone who works with young people and wants to share and discuss reproductive health topics. It provides an opportunity for participants to share de-identified situations and cases for peer-to-peer and specialist consultation. Recent topics include when to start birth control after emergency contraception\, metformin to treat PCOS\, addressing the side effects of contraception\, amenorrhea and more. Cases or topics can be submitted up to three days in advance.
URL:https://aapcolorado.org/event/echo-community-of-practice-on-adolescent-reproductive-health/
LOCATION:Virtual
END:VEVENT
END:VCALENDAR