BEGIN:VCALENDAR
VERSION:2.0
PRODID:-//American Academy of Pediatrics, Colorado Chapter - ECPv6.15.20//NONSGML v1.0//EN
CALSCALE:GREGORIAN
METHOD:PUBLISH
X-ORIGINAL-URL:https://aapcolorado.org
X-WR-CALDESC:Events for American Academy of Pediatrics, Colorado Chapter
REFRESH-INTERVAL;VALUE=DURATION:PT1H
X-Robots-Tag:noindex
X-PUBLISHED-TTL:PT1H
BEGIN:VTIMEZONE
TZID:America/Denver
BEGIN:DAYLIGHT
TZOFFSETFROM:-0700
TZOFFSETTO:-0600
TZNAME:MDT
DTSTART:20240310T090000
END:DAYLIGHT
BEGIN:STANDARD
TZOFFSETFROM:-0600
TZOFFSETTO:-0700
TZNAME:MST
DTSTART:20241103T080000
END:STANDARD
BEGIN:DAYLIGHT
TZOFFSETFROM:-0700
TZOFFSETTO:-0600
TZNAME:MDT
DTSTART:20250309T090000
END:DAYLIGHT
BEGIN:STANDARD
TZOFFSETFROM:-0600
TZOFFSETTO:-0700
TZNAME:MST
DTSTART:20251102T080000
END:STANDARD
BEGIN:DAYLIGHT
TZOFFSETFROM:-0700
TZOFFSETTO:-0600
TZNAME:MDT
DTSTART:20260308T090000
END:DAYLIGHT
BEGIN:STANDARD
TZOFFSETFROM:-0600
TZOFFSETTO:-0700
TZNAME:MST
DTSTART:20261101T080000
END:STANDARD
END:VTIMEZONE
BEGIN:VEVENT
DTSTART;TZID=America/Denver:20250417T120000
DTEND;TZID=America/Denver:20250417T130000
DTSTAMP:20260420T042010
CREATED:20250512T145557Z
LAST-MODIFIED:20250512T145557Z
UID:2598-1744891200-1744894800@aapcolorado.org
SUMMARY:VES: Moving Towards Equitable Care in Perinatal Substance Exposure
DESCRIPTION:CHILDREN’S HOSPITAL COLORADO PRESENTS:\nMoving Towards Equitable Care in Perinatal Substance Exposure\n\nThursday\, April 17\, 2025 • 12 to 1 p.m. \nThere is no fee for this event but please register here. \nAt the start of the session\, learners must report attendance by texting\nthe SMS code VES417 to Continuing Education at 720-790-4423 or https://ce.childrenscolorado.org/code. \nFor further information\, click here for the flyer or contact Nicole Shoka. \nObjectives: \n\nReview current processes in Colorado and Children’s Colorado to improve universal verbal screening for perinatal substance exposure\nDescribe evaluation and process for determination of safety of human milk in the setting of substance exposure\n\nFaculty from Children’s Hospital Colorado / University of Colorado \nErica Wymore\, MD\, MPH\nAssociate Professor\, Neonatal-Perinatal Medicine\nUniversity of Colorado School of Medicine\nNeonatologist\nChildren’s Hospital Colorado \nChristina R. Fisher\, MD\, MSCS\nAssociate Professor\, Neonatal-Perinatal Medicine\nUniversity of Colorado School of Medicine\nNeonatologist\nChildren’s Hospital Colorado
URL:https://aapcolorado.org/event/ves-moving-towards-equitable-care-in-perinatal-substance-exposure/
LOCATION:Virtual
END:VEVENT
END:VCALENDAR