BEGIN:VCALENDAR
VERSION:2.0
PRODID:-//American Academy of Pediatrics, Colorado Chapter - ECPv6.15.20//NONSGML v1.0//EN
CALSCALE:GREGORIAN
METHOD:PUBLISH
X-WR-CALNAME:American Academy of Pediatrics, Colorado Chapter
X-ORIGINAL-URL:https://aapcolorado.org
X-WR-CALDESC:Events for American Academy of Pediatrics, Colorado Chapter
REFRESH-INTERVAL;VALUE=DURATION:PT1H
X-Robots-Tag:noindex
X-PUBLISHED-TTL:PT1H
BEGIN:VTIMEZONE
TZID:America/Denver
BEGIN:DAYLIGHT
TZOFFSETFROM:-0700
TZOFFSETTO:-0600
TZNAME:MDT
DTSTART:20240310T090000
END:DAYLIGHT
BEGIN:STANDARD
TZOFFSETFROM:-0600
TZOFFSETTO:-0700
TZNAME:MST
DTSTART:20241103T080000
END:STANDARD
BEGIN:DAYLIGHT
TZOFFSETFROM:-0700
TZOFFSETTO:-0600
TZNAME:MDT
DTSTART:20250309T090000
END:DAYLIGHT
BEGIN:STANDARD
TZOFFSETFROM:-0600
TZOFFSETTO:-0700
TZNAME:MST
DTSTART:20251102T080000
END:STANDARD
BEGIN:DAYLIGHT
TZOFFSETFROM:-0700
TZOFFSETTO:-0600
TZNAME:MDT
DTSTART:20260308T090000
END:DAYLIGHT
BEGIN:STANDARD
TZOFFSETFROM:-0600
TZOFFSETTO:-0700
TZNAME:MST
DTSTART:20261101T080000
END:STANDARD
END:VTIMEZONE
BEGIN:VEVENT
DTSTART;TZID=America/Denver:20251215T120000
DTEND;TZID=America/Denver:20251215T130000
DTSTAMP:20260422T034513
CREATED:20250821T172307Z
LAST-MODIFIED:20251217T163922Z
UID:3976-1765800000-1765803600@aapcolorado.org
SUMMARY:Children's Hospital CO VES: Breaking the Cycle of Screen: Driven Anxiety among Kids and Teens
DESCRIPTION:There is no fee for this event but please register here. \nAt the start of the session\, learners must report attendance by texting\nthe SMS code VES0115 to Continuing Education at 720-790-4423 or https://ce.childrenscolorado.org/code. \nFor further information\, click here for the flyer or contact Nicole Shoka. \nObjectives: \n\nExamine research findings linking screen usage with anxiety and depression among youth.\nDescribe harmful patterns of screen usage among youth with anxiety.\nDiscuss recommendations for families around screen time for children and adolescents.\n\nFaculty from Children’s Hospital Colorado / University of Colorado \nBenjamin Mullin\, PhD\nAssociate Professor of Psychiatry\nUniversity of Colorado\nThe Leslie and William Vollbracht Family Chair in Stress and Anxiety Disorders\nChildren’s Hospital Colorado
URL:https://aapcolorado.org/event/ves-breaking-the-cycle-of-screen-driven-anxiety-among-kids-and-teens-2/
LOCATION:Virtual
END:VEVENT
END:VCALENDAR