BEGIN:VCALENDAR
VERSION:2.0
PRODID:-//American Academy of Pediatrics, Colorado Chapter - ECPv6.15.20//NONSGML v1.0//EN
CALSCALE:GREGORIAN
METHOD:PUBLISH
X-ORIGINAL-URL:https://aapcolorado.org
X-WR-CALDESC:Events for American Academy of Pediatrics, Colorado Chapter
REFRESH-INTERVAL;VALUE=DURATION:PT1H
X-Robots-Tag:noindex
X-PUBLISHED-TTL:PT1H
BEGIN:VTIMEZONE
TZID:America/Denver
BEGIN:DAYLIGHT
TZOFFSETFROM:-0700
TZOFFSETTO:-0600
TZNAME:MDT
DTSTART:20220313T090000
END:DAYLIGHT
BEGIN:STANDARD
TZOFFSETFROM:-0600
TZOFFSETTO:-0700
TZNAME:MST
DTSTART:20221106T080000
END:STANDARD
BEGIN:DAYLIGHT
TZOFFSETFROM:-0700
TZOFFSETTO:-0600
TZNAME:MDT
DTSTART:20230312T090000
END:DAYLIGHT
BEGIN:STANDARD
TZOFFSETFROM:-0600
TZOFFSETTO:-0700
TZNAME:MST
DTSTART:20231105T080000
END:STANDARD
BEGIN:DAYLIGHT
TZOFFSETFROM:-0700
TZOFFSETTO:-0600
TZNAME:MDT
DTSTART:20240310T090000
END:DAYLIGHT
BEGIN:STANDARD
TZOFFSETFROM:-0600
TZOFFSETTO:-0700
TZNAME:MST
DTSTART:20241103T080000
END:STANDARD
END:VTIMEZONE
BEGIN:VEVENT
DTSTART;TZID=America/Denver:20231101T075500
DTEND;TZID=America/Denver:20231101T163000
DTSTAMP:20260420T062447
CREATED:20230917T210735Z
LAST-MODIFIED:20230917T210840Z
UID:1888-1698825300-1698856200@aapcolorado.org
SUMMARY:25th Annual Pediatric Infectious Diseases Update
DESCRIPTION:Children’s Hospital Colorado Section of\nPediatric Infectious Diseases and Epidemiology presents:\n25th Annual Pediatric Infectious Diseases Update – HYBRID\nWednesday\, November 1\, 2023 • 7:30am to 5:25 p.m. \nVirtual or In-Person \nChildren’s Hospital Colorado13123 E. 19th Avenue\n2nd Floor Conference CenterAurora\, CO 80045 \nFor more information click on BROCHURE \nTo register click HERE \nOverview\nThis conference on pediatric infectious diseases will cover topics of interest to pediatricians\, family physicians\, and other primary care providers for children and young adults.  These include updates on congenital CMV\, influenza\, COVID-19\, acute otitis media\, eosinophilia\, and post-viral syndrome. \nObjectives \n\nInfectious Disease Considerations Among Immigrants and Refugees\nAntibiotics: Common Pitfalls and Helpful Pearls\nA Clinical Pathway for Uncomplicated Acute Respiratory Tract Infections\nOutbreak of Invasive Group A  Streptococcus\nOutpatient HSV Management\nACIP Update\n\nContinuing Education Credit\n8.0 AMA PRA Category 1 Credit(s)™\n7.5 ABP MOC Part 2 points
URL:https://aapcolorado.org/event/25th-annual-pediatric-infectious-diseases-update/
LOCATION:Children’s Hospital Colorado\, Conference and Education Center\, 13123 E. 16th Avenue\, Aurora\, CO\, United States
END:VEVENT
BEGIN:VEVENT
DTSTART;TZID=America/Denver:20231101T075500
DTEND;TZID=America/Denver:20231101T163000
DTSTAMP:20260420T062447
CREATED:20230917T210735Z
LAST-MODIFIED:20230917T210735Z
UID:3149-1698825300-1698856200@aapcolorado.org
SUMMARY:25th Annual Pediatric Infectious Diseases Update
DESCRIPTION:Children’s Hospital Colorado Section of\nPediatric Infectious Diseases and Epidemiology presents:\n25th Annual Pediatric Infectious Diseases Update – HYBRID\nWednesday\, November 1\, 2023 • 7:30am to 5:25 p.m. \nVirtual or In-Person \nChildren’s Hospital Colorado13123 E. 19th Avenue\n2nd Floor Conference CenterAurora\, CO 80045 \nFor more information click on BROCHURE \nTo register click HERE \nOverview\nThis conference on pediatric infectious diseases will cover topics of interest to pediatricians\, family physicians\, and other primary care providers for children and young adults.  These include updates on congenital CMV\, influenza\, COVID-19\, acute otitis media\, eosinophilia\, and post-viral syndrome. \nObjectives \n\nInfectious Disease Considerations Among Immigrants and Refugees\nAntibiotics: Common Pitfalls and Helpful Pearls\nA Clinical Pathway for Uncomplicated Acute Respiratory Tract Infections\nOutbreak of Invasive Group A  Streptococcus\nOutpatient HSV Management\nACIP Update\n\nContinuing Education Credit\n8.0 AMA PRA Category 1 Credit(s)™\n7.5 ABP MOC Part 2 points
URL:https://aapcolorado.org/event/25th-annual-pediatric-infectious-diseases-update-2/
LOCATION:Children’s Hospital Colorado\, Conference and Education Center\, 13123 E. 16th Avenue\, Aurora\, CO\, United States
END:VEVENT
BEGIN:VEVENT
DTSTART;TZID=America/Denver:20231101T075500
DTEND;TZID=America/Denver:20231101T163000
DTSTAMP:20260420T062447
CREATED:20230917T210735Z
LAST-MODIFIED:20230917T210735Z
UID:3778-1698825300-1698856200@aapcolorado.org
SUMMARY:25th Annual Pediatric Infectious Diseases Update
DESCRIPTION:Children’s Hospital Colorado Section of\nPediatric Infectious Diseases and Epidemiology presents:\n25th Annual Pediatric Infectious Diseases Update – HYBRID\nWednesday\, November 1\, 2023 • 7:30am to 5:25 p.m. \nVirtual or In-Person \nChildren’s Hospital Colorado13123 E. 19th Avenue\n2nd Floor Conference CenterAurora\, CO 80045 \nFor more information click on BROCHURE \nTo register click HERE \nOverview\nThis conference on pediatric infectious diseases will cover topics of interest to pediatricians\, family physicians\, and other primary care providers for children and young adults.  These include updates on congenital CMV\, influenza\, COVID-19\, acute otitis media\, eosinophilia\, and post-viral syndrome. \nObjectives \n\nInfectious Disease Considerations Among Immigrants and Refugees\nAntibiotics: Common Pitfalls and Helpful Pearls\nA Clinical Pathway for Uncomplicated Acute Respiratory Tract Infections\nOutbreak of Invasive Group A  Streptococcus\nOutpatient HSV Management\nACIP Update\n\nContinuing Education Credit\n8.0 AMA PRA Category 1 Credit(s)™\n7.5 ABP MOC Part 2 points
URL:https://aapcolorado.org/event/25th-annual-pediatric-infectious-diseases-update-3/
LOCATION:Children’s Hospital Colorado\, Conference and Education Center\, 13123 E. 16th Avenue\, Aurora\, CO\, United States
END:VEVENT
BEGIN:VEVENT
DTSTART;TZID=America/Denver:20231107T180000
DTEND;TZID=America/Denver:20231107T193000
DTSTAMP:20260420T062447
CREATED:20231020T200945Z
LAST-MODIFIED:20231020T200945Z
UID:1916-1699380000-1699385400@aapcolorado.org
SUMMARY:AAP-CO Board Meeting
DESCRIPTION:Contact info@aapcolorado.org for more information.
URL:https://aapcolorado.org/event/aap-co-board-meeting-16/
LOCATION:CO
END:VEVENT
BEGIN:VEVENT
DTSTART;TZID=America/Denver:20231107T180000
DTEND;TZID=America/Denver:20231107T193000
DTSTAMP:20260420T062447
CREATED:20231020T200945Z
LAST-MODIFIED:20231020T200945Z
UID:3159-1699380000-1699385400@aapcolorado.org
SUMMARY:AAP-CO Board Meeting
DESCRIPTION:Contact info@aapcolorado.org for more information.
URL:https://aapcolorado.org/event/aap-co-board-meeting-16-2/
LOCATION:CO
END:VEVENT
BEGIN:VEVENT
DTSTART;TZID=America/Denver:20231107T180000
DTEND;TZID=America/Denver:20231107T193000
DTSTAMP:20260420T062447
CREATED:20231020T200945Z
LAST-MODIFIED:20231020T200945Z
UID:3788-1699380000-1699385400@aapcolorado.org
SUMMARY:AAP-CO Board Meeting
DESCRIPTION:Contact info@aapcolorado.org for more information.
URL:https://aapcolorado.org/event/aap-co-board-meeting-16-3/
LOCATION:CO
END:VEVENT
BEGIN:VEVENT
DTSTART;TZID=America/Denver:20231110T080000
DTEND;TZID=America/Denver:20231110T113000
DTSTAMP:20260420T062447
CREATED:20230928T160945Z
LAST-MODIFIED:20230928T163230Z
UID:1908-1699603200-1699615800@aapcolorado.org
SUMMARY:11th Annual William K. Frankenburg Visiting Professorship and Lectureship – Moira Szilagyi\, MD
DESCRIPTION:11th Annual William K. Frankenburg Visiting Professorship and Lectureship\nFeaturing Dr. Moira Szilagyi\nFriday\, November 11\, 2023\n8am-11:30pm\nLearn more or register here.\nThe Frankenburg-Camp Endowed Fund honors the pioneering leadership of Dr. William K. Frankenburg\, who made developmental screening an integral part of pediatric practice throughout the world. The Fund supports research\, training and advocacy for early identification and prevention of developmental disorders in otherwise normal children at risk of becoming environmental casualties.\nFeaturing Moira Szilagyi\, MD\, PhD\, FAAP\, the 2023 Immediate Past President of the American Academy of Pediatrics (AAP).\nThank you to donors to the Frankenburg-Camp Endowed Fund for supporting this educational activity. \n 
URL:https://aapcolorado.org/event/11th-annual-william-k-frankenburg-visiting-professorship-and-lectureship/
LOCATION:Children’s Hospital Colorado\, 13123 E 16th Avenue \, Aurora\, CO\, 80045\, United States
END:VEVENT
BEGIN:VEVENT
DTSTART;TZID=America/Denver:20231110T080000
DTEND;TZID=America/Denver:20231110T113000
DTSTAMP:20260420T062447
CREATED:20230928T160945Z
LAST-MODIFIED:20230928T160945Z
UID:3156-1699603200-1699615800@aapcolorado.org
SUMMARY:11th Annual William K. Frankenburg Visiting Professorship and Lectureship – Moira Szilagyi\, MD
DESCRIPTION:11th Annual William K. Frankenburg Visiting Professorship and Lectureship\nFeaturing Dr. Moira Szilagyi\nFriday\, November 11\, 2023\n8am-11:30pm\nLearn more or register here.\nThe Frankenburg-Camp Endowed Fund honors the pioneering leadership of Dr. William K. Frankenburg\, who made developmental screening an integral part of pediatric practice throughout the world. The Fund supports research\, training and advocacy for early identification and prevention of developmental disorders in otherwise normal children at risk of becoming environmental casualties.\nFeaturing Moira Szilagyi\, MD\, PhD\, FAAP\, the 2023 Immediate Past President of the American Academy of Pediatrics (AAP).\nThank you to donors to the Frankenburg-Camp Endowed Fund for supporting this educational activity. \n 
URL:https://aapcolorado.org/event/11th-annual-william-k-frankenburg-visiting-professorship-and-lectureship-2/
LOCATION:Children’s Hospital Colorado\, 13123 E 16th Avenue \, Aurora\, CO\, 80045\, United States
END:VEVENT
BEGIN:VEVENT
DTSTART;TZID=America/Denver:20231110T080000
DTEND;TZID=America/Denver:20231110T113000
DTSTAMP:20260420T062447
CREATED:20230928T160945Z
LAST-MODIFIED:20230928T160945Z
UID:3785-1699603200-1699615800@aapcolorado.org
SUMMARY:11th Annual William K. Frankenburg Visiting Professorship and Lectureship – Moira Szilagyi\, MD
DESCRIPTION:11th Annual William K. Frankenburg Visiting Professorship and Lectureship\nFeaturing Dr. Moira Szilagyi\nFriday\, November 11\, 2023\n8am-11:30pm\nLearn more or register here.\nThe Frankenburg-Camp Endowed Fund honors the pioneering leadership of Dr. William K. Frankenburg\, who made developmental screening an integral part of pediatric practice throughout the world. The Fund supports research\, training and advocacy for early identification and prevention of developmental disorders in otherwise normal children at risk of becoming environmental casualties.\nFeaturing Moira Szilagyi\, MD\, PhD\, FAAP\, the 2023 Immediate Past President of the American Academy of Pediatrics (AAP).\nThank you to donors to the Frankenburg-Camp Endowed Fund for supporting this educational activity. \n 
URL:https://aapcolorado.org/event/11th-annual-william-k-frankenburg-visiting-professorship-and-lectureship-3/
LOCATION:Children’s Hospital Colorado\, 13123 E 16th Avenue \, Aurora\, CO\, 80045\, United States
END:VEVENT
END:VCALENDAR